BEGIN:VCALENDAR
VERSION:2.0
CREATED:20260420T235346Z
PRODID:-//Strata Critical Medical\, Inc./Equisolve Calendar v1.0//EN
METHOD:PUBLISH
BEGIN:VEVENT
UID:8c4ffb8fb1f03a871dd4e8dbbcaa133e
DTSTAMP:20260421T121837Z
DTSTART:20260506T120000Z
DTEND:20260506T130000Z
SUMMARY:First Quarter 2026 Financial Results Conference Call
DESCRIPTION:First Quarter 2026 Financial Results Conference Call\n\nDate: May 6\, 2026 8:00 am EDT\n\nWebcast: https://edge.media-server.com/mmc/p/ckgxkp2i/
END:VEVENT
END:VCALENDAR
